Workbook
Name Amount: 'Movimenti Finanziari'!$F$2:$F$250
Name AmountCASETTO: 'Movimenti Finanziari'!$I$2:$I$250
Name AmountCASSAFORTE: 'Movimenti Finanziari'!$J$2:$J$250
Name Banconote: 'Chiusura di cassa'!$L$9:$Q$9
Name CashRegister: 'Movimenti Finanziari'!$D$2:$D$250
Name CauseCode: 'Movimenti Finanziari'!$C$2:$C$250
Name Destination: 'Movimenti Finanziari'!$H$2:$H$250
Name Economico: 'Chiusura di cassa'!$G$11:$G$26
Name Finanziario: 'Chiusura di cassa'!$G$27:$G$30
Name Monete: 'Chiusura di cassa'!$L$6:$S$6
Name MotivoDifferenza: 'Chiusura di cassa'!$L$19
Name PaymentCode: 'Movimenti Finanziari'!$E$2:$E$250
Name RangeAmountCASETTO: 'Movimenti Finanziari'!$I$2:$I$37
Name RangeAmountCASSAFORTE: 'Movimenti Finanziari'!$J$2:$J$36
Name Source: 'Movimenti Finanziari'!$G$2:$G$250
Name Tender: 'Chiusura di cassa'!$G$28:$G$38,'Chiusura di cassa'!$G$43

Sheet Chiusura di cassa
B2: Codice | D2: Descrizione | E2: PC | F2: RT/POS | G2: Rilevato | L2: CONTEGGIO CONTANTE NEL CASSETTO
D3: MOVIMENTAZIONE DENARO | G3: =SUM(G4:G9) -> 0
D4: Fondo Cassa | E4: =SUMIFS(AmountCASETTO,CauseCode,"CC_APERTURAFONDOCASSA",CashRegister,M1,PaymentCode,"CASH") -> 0 | G4: =E4 -> 0
D5: Versamenti contante nel cassetto | E5: =SUMIFS(AmountCASETTO,CauseCode,"CC_VERSAMENTO",CashRegister,M1,PaymentCode,"CASH") -> 0 | G5: =E5 -> 0
D6: Prelievi contante dal cassetto | E6: =SUMIFS(AmountCASETTO,CauseCode,"CC_PRELIEVO",CashRegister,M1,PaymentCode,"CASH") -> 0 | G6: =E6 -> 0 | L6: 0 | M6: 0 | N6: 0 | O6: 0 | P6: 0 | Q6: 0 | R6: 0 | S6: 0 | T6: =(L6*2)+(M6*1)+(N6*0.5)+O6*0.2+P6*0.1+Q6*0.05+R6*0.02+S6*0.01 -> 0
D7: Spese Contante | E7: =SUMIFS(AmountCASETTO,CauseCode,"CC_SPESE",CashRegister,M1,PaymentCode,"CASH",Source,"ST_CASSETTO") -> 0 | G7: =E7 -> 0 | H7: TOTALE
D8: Varie Entrate | E8: =SUMIFS(AmountCASETTO,Destination,"ST_CASSETTO",CashRegister,M1,PaymentCode,"CASH") -E4-E5 -> 0 | G8: =E8 -> 0 | H8: =G4+G5-G6-G7+G8-G9 -> 0
D9: Varie Uscite | E9: =SUMIFS(AmountCASETTO,Source,"ST_CASSETTO",CashRegister,M1,PaymentCode,"CASH") -E6-E7 -> 0 | G9: =E9 -> 0 | L9: 0 | M9: 0 | N9: 0 | O9: 0 | P9: 0 | Q9: 0 | T9: =(L9*200)+(M9*100)+(N9*50)+O9*20+P9*10+Q9*5 -> 0
D10: VENDUTO | G10: =SUMIF(B11:B22, "VAT*", G11:G22) - SUMIF(B11:B22, "CN*", G11:G22) +G24-G25+G26 -> 0 | L10: CONFRONTO FRA CONTANTE TEORICO / RILEVATO
A11: MOV | G11: =E11 -> 0 | P11: Nel cassetto | S11: =T9+T6 -> 0
A12: MOV | G12: =E12 -> 0
A13: MOV | G13: =E13 -> 0 | P13: Teorico PC | S13: =G3 + G28 -> 0
A14: MOV | G14: =E14 -> 0
A15: MOV | G15: =E15 -> 0 | P15: Differenza | S15: =ROUND(S11-S13,2) -> 0
A16: MOV | G16: =E16 -> 0
A17: MOV | G17: =E17 -> 0 | L17: MOTIVO DIFFERENZE:
A18: MOV | G18: =E18 -> 0
A19: MOV | G19: =E19 -> 0
A20: MOV | G20: =E20 -> 0
A21: MOV | G21: =E21 -> 0
A22: MOV | G22: =E22 -> 0
A23: SLSFIN | B23: ADVINC | D23: Caparre incamerate | G23: =E23 -> 0
A24: SLSFIN | B24: ADVISSUE | D24: Caparre incassate | G24: =E24 -> 0 | K24: Fatture emesse
A25: SLSFIN | B25: ADVVOID | D25: Caparre rese | G25: =E25 -> 0
A26: SLSFIN | B26: GIFTISSUE | D26: Gift Card Vendute | G26: =E26 -> 0 | J26: CFMMS
D27: INCASSATO | G27: =SUM(G28:G39)-G43 -> 0
A28: RP | B28: P1 | G28: =E28 -> 0
D29: ELETTRONICO | E29: =SUM(E45:E61) -> 0 | G29: =SUM(G45:G61) -> 0 | L29: Causale | O29: Totale | Q29: Pagamento | T29: Note
A30: RP | B30: P2 | G30: =E30 -> 0
A31: RP | B31: P3 | G31: =E31 -> 0
A32: RP | B32: P4 | G32: =E32 -> 0
A33: RP | B33: P5 | G33: =E33 -> 0
A34: RP | B34: P6 | G34: =E34 -> 0
A35: RP | B35: P7 | G35: =E35 -> 0
A36: RP | B36: P8 | G36: =E36 -> 0
A37: RP | B37: P9 | G37: =E37 -> 0
A38: RP | B38: P10 | G38: =E38 -> 0
D39: ARROTONDAMENTI | G39: =SUM(G40:G41) -> 0
A40: RPREV | B40: ROUNDUP | G40: =E40 -> 0
A41: RPREV | B41: ROUNDDOWN | G41: =E41 -> 0
...

Sheet Chiusura Negozio
B1: ='Chiusura di cassa'!D1 -> 0 | C1: ='Chiusura di cassa'!N1 -> 0 | D1: RIEPILOGO DI GIORNATA FONDI NEGOZIO (CASSE E CASSAFORTE)
G2: Dettaglio Casse
B3: Movimenti denaro Fondi Cassa negozio (cassetti) | G3: 1 | H3: 2 | I3: 3 | J3: 4 | K3: 5 | L3: 6 | M3: 7 | N3: 8 | O3: 9 | P3: 10
B4: Iniziale | C4: =SUM(G4:P4) -> 0 | F4: Fondo Cassa | G4: =SUMIFS(AmountCASETTO,CauseCode,"CC_APERTURAFONDOCASSA",CashRegister,G$3,PaymentCode,"CASH") -> 0 | H4: =SUMIFS(AmountCASETTO,CauseCode,"CC_APERTURAFONDOCASSA",CashRegister,H$3,PaymentCode,"CASH") -> 0 | I4: =SUMIFS(AmountCASETTO,CauseCode,"CC_APERTURAFONDOCASSA",CashRegister,I$3,PaymentCode,"CASH") -> 0 | J4: =SUMIFS(AmountCASETTO,CauseCode,"CC_APERTURAFONDOCASSA",CashRegister,J$3,PaymentCode,"CASH") -> 0 | K4: =SUMIFS(AmountCASETTO,CauseCode,"CC_APERTURAFONDOCASSA",CashRegister,K$3,PaymentCode,"CASH") -> 0 | L4: =SUMIFS(AmountCASETTO,CauseCode,"CC_APERTURAFONDOCASSA",CashRegister,L$3,PaymentCode,"CASH") -> 0 | M4: =SUMIFS(AmountCASETTO,CauseCode,"CC_APERTURAFONDOCASSA",CashRegister,M$3,PaymentCode,"CASH") -> 0 | N4: =SUMIFS(AmountCASETTO,CauseCode,"CC_APERTURAFONDOCASSA",CashRegister,N$3,PaymentCode,"CASH") -> 0 | ... P4: =SUMIFS(AmountCASETTO,CauseCode,"CC_APERTURAFONDOCASSA",CashRegister,P$3,PaymentCode,"CASH") -> 0
B5: Prelievi | C5: =SUM(G5:P5) -> 0 | F5: Prelievo dal cassetto | G5: =SUMIFS(AmountCASETTO,CauseCode,"CC_PRELIEVO",CashRegister,G$3,PaymentCode,"CASH") -> 0 | H5: =SUMIFS(AmountCASETTO,CauseCode,"CC_PRELIEVO",CashRegister,H$3,PaymentCode,"CASH") -> 0 | I5: =SUMIFS(AmountCASETTO,CauseCode,"CC_PRELIEVO",CashRegister,I$3,PaymentCode,"CASH") -> 0 | J5: =SUMIFS(AmountCASETTO,CauseCode,"CC_PRELIEVO",CashRegister,J$3,PaymentCode,"CASH") -> 0 | K5: =SUMIFS(AmountCASETTO,CauseCode,"CC_PRELIEVO",CashRegister,K$3,PaymentCode,"CASH") -> 0 | L5: =SUMIFS(AmountCASETTO,CauseCode,"CC_PRELIEVO",CashRegister,L$3,PaymentCode,"CASH") -> 0 | M5: =SUMIFS(AmountCASETTO,CauseCode,"CC_PRELIEVO",CashRegister,M$3,PaymentCode,"CASH") -> 0 | N5: =SUMIFS(AmountCASETTO,CauseCode,"CC_PRELIEVO",CashRegister,N$3,PaymentCode,"CASH") -> 0 | ... P5: =SUMIFS(AmountCASETTO,CauseCode,"CC_PRELIEVO",CashRegister,P$3,PaymentCode,"CASH") -> 0
B6: Versamenti | C6: =SUM(G6:P6) -> 0 | F6: Versamento nel cassetto | G6: =SUMIFS(AmountCASETTO,CauseCode,"CC_VERSAMENTO",CashRegister,G$3,PaymentCode,"CASH") -> 0 | H6: =SUMIFS(AmountCASETTO,CauseCode,"CC_VERSAMENTO",CashRegister,H$3,PaymentCode,"CASH") -> 0 | I6: =SUMIFS(AmountCASETTO,CauseCode,"CC_VERSAMENTO",CashRegister,I$3,PaymentCode,"CASH") -> 0 | J6: =SUMIFS(AmountCASETTO,CauseCode,"CC_VERSAMENTO",CashRegister,J$3,PaymentCode,"CASH") -> 0 | K6: =SUMIFS(AmountCASETTO,CauseCode,"CC_VERSAMENTO",CashRegister,K$3,PaymentCode,"CASH") -> 0 | L6: =SUMIFS(AmountCASETTO,CauseCode,"CC_VERSAMENTO",CashRegister,L$3,PaymentCode,"CASH") -> 0 | M6: =SUMIFS(AmountCASETTO,CauseCode,"CC_VERSAMENTO",CashRegister,M$3,PaymentCode,"CASH") -> 0 | N6: =SUMIFS(AmountCASETTO,CauseCode,"CC_VERSAMENTO",CashRegister,N$3,PaymentCode,"CASH") -> 0 | ... P6: =SUMIFS(AmountCASETTO,CauseCode,"CC_VERSAMENTO",CashRegister,P$3,PaymentCode,"CASH") -> 0
B7: Incasso contanti | C7: =SUM(G7:P7) -> 0 | F7: Incasso contanti | G7: =IF(G$3='Chiusura di cassa'!$M$1, 'Chiusura di cassa'!$G$28, (SUMIFS(AmountCASETTO,CauseCode,"CC_VENDITAPRODOTTI",CashRegister,G$3,PaymentCode,"CASH"))) -> 0 | H7: =IF(H$3='Chiusura di cassa'!$M$1, 'Chiusura di cassa'!$G$28, (SUMIFS(AmountCASETTO,CauseCode,"CC_VENDITAPRODOTTI",CashRegister,H$3,PaymentCode,"CASH"))) -> 0 | I7: =IF(I$3='Chiusura di cassa'!$M$1, 'Chiusura di cassa'!$G$28, (SUMIFS(AmountCASETTO,CauseCode,"CC_VENDITAPRODOTTI",CashRegister,I$3,PaymentCode,"CASH"))) -> 0 | J7: =IF(J$3='Chiusura di cassa'!$M$1, 'Chiusura di cassa'!$G$28, (SUMIFS(AmountCASETTO,CauseCode,"CC_VENDITAPRODOTTI",CashRegister,J$3,PaymentCode,"CASH"))) -> 0 | K7: =IF(K$3='Chiusura di cassa'!$M$1, 'Chiusura di cassa'!$G$28, (SUMIFS(AmountCASETTO,CauseCode,"CC_VENDITAPRODOTTI",CashRegister,K$3,PaymentCode,"CASH"))) -> 0 | L7: =IF(L$3='Chiusura di cassa'!$M$1, 'Chiusura di cassa'!$G$28, (SUMIFS(AmountCASETTO,CauseCode,"CC_VENDITAPRODOTTI",CashRegister,L$3,PaymentCode,"CASH"))) -> 0 | M7: =IF(M$3='Chiusura di cassa'!$M$1, 'Chiusura di cassa'!$G$28, (SUMIFS(AmountCASETTO,CauseCode,"CC_VENDITAPRODOTTI",CashRegister,M$3,PaymentCode,"CASH"))) -> 0 | N7: =IF(N$3='Chiusura di cassa'!$M$1, 'Chiusura di cassa'!$G$28, (SUMIFS(AmountCASETTO,CauseCode,"CC_VENDITAPRODOTTI",CashRegister,N$3,PaymentCode,"CASH"))) -> 0 | ... P7: =IF(P$3='Chiusura di cassa'!$M$1, 'Chiusura di cassa'!$G$28, (SUMIFS(AmountCASETTO,CauseCode,"CC_VENDITAPRODOTTI",CashRegister,P$3,PaymentCode,"CASH"))) -> 0
B8: Spese contanti | C8: =SUM(G8:P8) -> 0 | F8: Spese contanti | G8: =SUMIFS(AmountCASETTO,CauseCode,"CC_SPESE",CashRegister,G$3,PaymentCode,"CASH",Source,"ST_CASSETTO") -> 0 | H8: =SUMIFS(AmountCASETTO,CauseCode,"CC_SPESE",CashRegister,H$3,PaymentCode,"CASH",Source,"ST_CASSETTO") -> 0 | I8: =SUMIFS(AmountCASETTO,CauseCode,"CC_SPESE",CashRegister,I$3,PaymentCode,"CASH",Source,"ST_CASSETTO") -> 0 | J8: =SUMIFS(AmountCASETTO,CauseCode,"CC_SPESE",CashRegister,J$3,PaymentCode,"CASH",Source,"ST_CASSETTO") -> 0 | K8: =SUMIFS(AmountCASETTO,CauseCode,"CC_SPESE",CashRegister,K$3,PaymentCode,"CASH",Source,"ST_CASSETTO") -> 0 | L8: =SUMIFS(AmountCASETTO,CauseCode,"CC_SPESE",CashRegister,L$3,PaymentCode,"CASH",Source,"ST_CASSETTO") -> 0 | M8: =SUMIFS(AmountCASETTO,CauseCode,"CC_SPESE",CashRegister,M$3,PaymentCode,"CASH",Source,"ST_CASSETTO") -> 0 | N8: =SUMIFS(AmountCASETTO,CauseCode,"CC_SPESE",CashRegister,N$3,PaymentCode,"CASH",Source,"ST_CASSETTO") -> 0 | ... P8: =SUMIFS(AmountCASETTO,CauseCode,"CC_SPESE",CashRegister,P$3,PaymentCode,"CASH",Source,"ST_CASSETTO") -> 0
B9: Varie entrate | C9: =SUM(G9:P9) -> 0 | F9: Varie entrate | G9: =SUMIFS(AmountCASETTO,Destination,"ST_CASSETTO",CashRegister,G$3,PaymentCode,"CASH") -SUM(SUMIFS(AmountCASETTO, Destination,"ST_CASSETTO", CauseCode,{"CC_APERTURAFONDOCASSA","CC_PRELIEVO","CC_VERSAMENTO","CC_VENDITAPRODOTTI","CC_SPESE","CC_DIFFERENZENEGATIVE","CC_DIFFERENZEPOSITIVE"},CashRegister,G$3,PaymentCode,"CASH")) -> 0 | H9: =SUMIFS(AmountCASETTO,Destination,"ST_CASSETTO",CashRegister,H$3,PaymentCode,"CASH") -SUM(SUMIFS(AmountCASETTO, Destination,"ST_CASSETTO", CauseCode,{"CC_APERTURAFONDOCASSA","CC_PRELIEVO","CC_VERSAMENTO","CC_VENDITAPRODOTTI","CC_SPESE","CC_DIFFERENZENEGATIVE","CC_DIFFERENZEPOSITIVE"},CashRegister,H$3,PaymentCode,"CASH")) -> 0 | I9: =SUMIFS(AmountCASETTO,Destination,"ST_CASSETTO",CashRegister,I$3,PaymentCode,"CASH") -SUM(SUMIFS(AmountCASETTO, Destination,"ST_CASSETTO", CauseCode,{"CC_APERTURAFONDOCASSA","CC_PRELIEVO","CC_VERSAMENTO","CC_VENDITAPRODOTTI","CC_SPESE","CC_DIFFERENZENEGATIVE","CC_DIFFERENZEPOSITIVE"},CashRegister,I$3,PaymentCode,"CASH")) -> 0 | J9: =SUMIFS(AmountCASETTO,Destination,"ST_CASSETTO",CashRegister,J$3,PaymentCode,"CASH") -SUM(SUMIFS(AmountCASETTO, Destination,"ST_CASSETTO", CauseCode,{"CC_APERTURAFONDOCASSA","CC_PRELIEVO","CC_VERSAMENTO","CC_VENDITAPRODOTTI","CC_SPESE","CC_DIFFERENZENEGATIVE","CC_DIFFERENZEPOSITIVE"},CashRegister,J$3,PaymentCode,"CASH")) -> 0 | K9: =SUMIFS(AmountCASETTO,Destination,"ST_CASSETTO",CashRegister,K$3,PaymentCode,"CASH") -SUM(SUMIFS(AmountCASETTO, Destination,"ST_CASSETTO", CauseCode,{"CC_APERTURAFONDOCASSA","CC_PRELIEVO","CC_VERSAMENTO","CC_VENDITAPRODOTTI","CC_SPESE","CC_DIFFERENZENEGATIVE","CC_DIFFERENZEPOSITIVE"},CashRegister,K$3,PaymentCode,"CASH")) -> 0 | L9: =SUMIFS(AmountCASETTO,Destination,"ST_CASSETTO",CashRegister,L$3,PaymentCode,"CASH") -SUM(SUMIFS(AmountCASETTO, Destination,"ST_CASSETTO", CauseCode,{"CC_APERTURAFONDOCASSA","CC_PRELIEVO","CC_VERSAMENTO","CC_VENDITAPRODOTTI","CC_SPESE","CC_DIFFERENZENEGATIVE","CC_DIFFERENZEPOSITIVE"},CashRegister,L$3,PaymentCode,"CASH")) -> 0 | M9: =SUMIFS(AmountCASETTO,Destination,"ST_CASSETTO",CashRegister,M$3,PaymentCode,"CASH") -SUM(SUMIFS(AmountCASETTO, Destination,"ST_CASSETTO", CauseCode,{"CC_APERTURAFONDOCASSA","CC_PRELIEVO","CC_VERSAMENTO","CC_VENDITAPRODOTTI","CC_SPESE","CC_DIFFERENZENEGATIVE","CC_DIFFERENZEPOSITIVE"},CashRegister,M$3,PaymentCode,"CASH")) -> 0 | N9: =SUMIFS(AmountCASETTO,Destination,"ST_CASSETTO",CashRegister,N$3,PaymentCode,"CASH") -SUM(SUMIFS(AmountCASETTO, Destination,"ST_CASSETTO", CauseCode,{"CC_APERTURAFONDOCASSA","CC_PRELIEVO","CC_VERSAMENTO","CC_VENDITAPRODOTTI","CC_SPESE","CC_DIFFERENZENEGATIVE","CC_DIFFERENZEPOSITIVE"},CashRegister,N$3,PaymentCode,"CASH")) -> 0 | ... P9: =SUMIFS(AmountCASETTO,Destination,"ST_CASSETTO",CashRegister,P$3,PaymentCode,"CASH") -SUM(SUMIFS(AmountCASETTO, Destination,"ST_CASSETTO", CauseCode,{"CC_APERTURAFONDOCASSA","CC_PRELIEVO","CC_VERSAMENTO","CC_VENDITAPRODOTTI","CC_SPESE","CC_DIFFERENZENEGATIVE","CC_DIFFERENZEPOSITIVE"},CashRegister,P$3,PaymentCode,"CASH")) -> 0
B10: Varie uscite | C10: =SUM(G10:P10) -> 0 | F10: Varie uscite | G10: =SUMIFS(AmountCASETTO,Source,"ST_CASSETTO",CashRegister,G$3,PaymentCode,"CASH") -SUM(SUMIFS(AmountCASETTO, Source,"ST_CASSETTO", CauseCode,{"CC_APERTURAFONDOCASSA","CC_CHIUSURAFONDOCASSA","CC_PRELIEVO","CC_VERSAMENTO","CC_VENDITAPRODOTTI","CC_SPESE","CC_DIFFERENZENEGATIVE","CC_DIFFERENZEPOSITIVE"},CashRegister,G$3,PaymentCode,"CASH")) -> 0 | H10: =SUMIFS(AmountCASETTO,Source,"ST_CASSETTO",CashRegister,H$3,PaymentCode,"CASH") -SUM(SUMIFS(AmountCASETTO, Source,"ST_CASSETTO", CauseCode,{"CC_APERTURAFONDOCASSA","CC_CHIUSURAFONDOCASSA","CC_PRELIEVO","CC_VERSAMENTO","CC_VENDITAPRODOTTI","CC_SPESE","CC_DIFFERENZENEGATIVE","CC_DIFFERENZEPOSITIVE"},CashRegister,H$3,PaymentCode,"CASH")) -> 0 | I10: =SUMIFS(AmountCASETTO,Source,"ST_CASSETTO",CashRegister,I$3,PaymentCode,"CASH") -SUM(SUMIFS(AmountCASETTO, Source,"ST_CASSETTO", CauseCode,{"CC_APERTURAFONDOCASSA","CC_CHIUSURAFONDOCASSA","CC_PRELIEVO","CC_VERSAMENTO","CC_VENDITAPRODOTTI","CC_SPESE","CC_DIFFERENZENEGATIVE","CC_DIFFERENZEPOSITIVE"},CashRegister,I$3,PaymentCode,"CASH")) -> 0 | J10: =SUMIFS(AmountCASETTO,Source,"ST_CASSETTO",CashRegister,J$3,PaymentCode,"CASH") -SUM(SUMIFS(AmountCASETTO, Source,"ST_CASSETTO", CauseCode,{"CC_APERTURAFONDOCASSA","CC_CHIUSURAFONDOCASSA","CC_PRELIEVO","CC_VERSAMENTO","CC_VENDITAPRODOTTI","CC_SPESE","CC_DIFFERENZENEGATIVE","CC_DIFFERENZEPOSITIVE"},CashRegister,J$3,PaymentCode,"CASH")) -> 0 | K10: =SUMIFS(AmountCASETTO,Source,"ST_CASSETTO",CashRegister,K$3,PaymentCode,"CASH") -SUM(SUMIFS(AmountCASETTO, Source,"ST_CASSETTO", CauseCode,{"CC_APERTURAFONDOCASSA","CC_CHIUSURAFONDOCASSA","CC_PRELIEVO","CC_VERSAMENTO","CC_VENDITAPRODOTTI","CC_SPESE","CC_DIFFERENZENEGATIVE","CC_DIFFERENZEPOSITIVE"},CashRegister,K$3,PaymentCode,"CASH")) -> 0 | L10: =SUMIFS(AmountCASETTO,Source,"ST_CASSETTO",CashRegister,L$3,PaymentCode,"CASH") -SUM(SUMIFS(AmountCASETTO, Source,"ST_CASSETTO", CauseCode,{"CC_APERTURAFONDOCASSA","CC_CHIUSURAFONDOCASSA","CC_PRELIEVO","CC_VERSAMENTO","CC_VENDITAPRODOTTI","CC_SPESE","CC_DIFFERENZENEGATIVE","CC_DIFFERENZEPOSITIVE"},CashRegister,L$3,PaymentCode,"CASH")) -> 0 | M10: =SUMIFS(AmountCASETTO,Source,"ST_CASSETTO",CashRegister,M$3,PaymentCode,"CASH") -SUM(SUMIFS(AmountCASETTO, Source,"ST_CASSETTO", CauseCode,{"CC_APERTURAFONDOCASSA","CC_CHIUSURAFONDOCASSA","CC_PRELIEVO","CC_VERSAMENTO","CC_VENDITAPRODOTTI","CC_SPESE","CC_DIFFERENZENEGATIVE","CC_DIFFERENZEPOSITIVE"},CashRegister,M$3,PaymentCode,"CASH")) -> 0 | N10: =SUMIFS(AmountCASETTO,Source,"ST_CASSETTO",CashRegister,N$3,PaymentCode,"CASH") -SUM(SUMIFS(AmountCASETTO, Source,"ST_CASSETTO", CauseCode,{"CC_APERTURAFONDOCASSA","CC_CHIUSURAFONDOCASSA","CC_PRELIEVO","CC_VERSAMENTO","CC_VENDITAPRODOTTI","CC_SPESE","CC_DIFFERENZENEGATIVE","CC_DIFFERENZEPOSITIVE"},CashRegister,N$3,PaymentCode,"CASH")) -> 0 | ... P10: =SUMIFS(AmountCASETTO,Source,"ST_CASSETTO",CashRegister,P$3,PaymentCode,"CASH") -SUM(SUMIFS(AmountCASETTO, Source,"ST_CASSETTO", CauseCode,{"CC_APERTURAFONDOCASSA","CC_CHIUSURAFONDOCASSA","CC_PRELIEVO","CC_VERSAMENTO","CC_VENDITAPRODOTTI","CC_SPESE","CC_DIFFERENZENEGATIVE","CC_DIFFERENZEPOSITIVE"},CashRegister,P$3,PaymentCode,"CASH")) -> 0
B11: Ammanchi/Surplus | C11: =SUM(G11:P11) -> 0 | F11: Ammanchi/Surplus | G11: =IF(G$3='Chiusura di cassa'!$M$1,'Chiusura di cassa'!$S$15,SUM(SUMIFS(AmountCASETTO,CauseCode,{"CC_DIFFERENZEPOSITIVE","CC_DIFFERENZENEGATIVE"},CashRegister,G$3,PaymentCode,"CASH"))) -> 0 | H11: =IF(H$3='Chiusura di cassa'!$M$1,'Chiusura di cassa'!$S$15,SUM(SUMIFS(AmountCASETTO,CauseCode,{"CC_DIFFERENZEPOSITIVE","CC_DIFFERENZENEGATIVE"},CashRegister,H$3,PaymentCode,"CASH"))) -> 0 | I11: =IF(I$3='Chiusura di cassa'!$M$1,'Chiusura di cassa'!$S$15,SUM(SUMIFS(AmountCASETTO,CauseCode,{"CC_DIFFERENZEPOSITIVE","CC_DIFFERENZENEGATIVE"},CashRegister,I$3,PaymentCode,"CASH"))) -> 0 | J11: =IF(J$3='Chiusura di cassa'!$M$1,'Chiusura di cassa'!$S$15,SUM(SUMIFS(AmountCASETTO,CauseCode,{"CC_DIFFERENZEPOSITIVE","CC_DIFFERENZENEGATIVE"},CashRegister,J$3,PaymentCode,"CASH"))) -> 0 | K11: =IF(K$3='Chiusura di cassa'!$M$1,'Chiusura di cassa'!$S$15,SUM(SUMIFS(AmountCASETTO,CauseCode,{"CC_DIFFERENZEPOSITIVE","CC_DIFFERENZENEGATIVE"},CashRegister,K$3,PaymentCode,"CASH"))) -> 0 | L11: =IF(L$3='Chiusura di cassa'!$M$1,'Chiusura di cassa'!$S$15,SUM(SUMIFS(AmountCASETTO,CauseCode,{"CC_DIFFERENZEPOSITIVE","CC_DIFFERENZENEGATIVE"},CashRegister,L$3,PaymentCode,"CASH"))) -> 0 | M11: =IF(M$3='Chiusura di cassa'!$M$1,'Chiusura di cassa'!$S$15,SUM(SUMIFS(AmountCASETTO,CauseCode,{"CC_DIFFERENZEPOSITIVE","CC_DIFFERENZENEGATIVE"},CashRegister,M$3,PaymentCode,"CASH"))) -> 0 | N11: =IF(N$3='Chiusura di cassa'!$M$1,'Chiusura di cassa'!$S$15,SUM(SUMIFS(AmountCASETTO,CauseCode,{"CC_DIFFERENZEPOSITIVE","CC_DIFFERENZENEGATIVE"},CashRegister,N$3,PaymentCode,"CASH"))) -> 0 | ... P11: =IF(P$3='Chiusura di cassa'!$M$1,'Chiusura di cassa'!$S$15,SUM(SUMIFS(AmountCASETTO,CauseCode,{"CC_DIFFERENZEPOSITIVE","CC_DIFFERENZENEGATIVE"},CashRegister,P$3,PaymentCode,"CASH"))) -> 0
B12: Attuale | C12: =SUM(G12:P12) -> 0 | F12: Conteggio contanti cassetti | G12: =SUM(G4:G11) -> 0 | H12: =SUM(H4:H11) -> 0 | I12: =SUM(I4:I11) -> 0 | J12: =SUM(J4:J11) -> 0 | K12: =SUM(K4:K11) -> 0 | L12: =SUM(L4:L11) -> 0 | M12: =SUM(M4:M11) -> 0 | N12: =SUM(N4:N11) -> 0 | ... P12: =SUM(P4:P11) -> 0
B14: Movimenti denaro Fondo Cassaforte
B15: Iniziale | C15: =SUMIFS(Amount,CauseCode,"CC_APERTURACASSAFORTE",PaymentCode,"CASH") -> 0
B16: Prelievi | C16: =SUMIFS(AmountCASSAFORTE,Source,"ST_CASSAFORTE",CauseCode,"<>CC_SPESE",PaymentCode,"CASH") -> 0
B17: Versamenti | C17: =SUMIFS(AmountCASSAFORTE,Destination,"ST_CASSAFORTE",CauseCode,"<>CC_CHIUSURAFONDOCASSA",PaymentCode,"CASH") -> 0
B18: Spese dalla Cassaforte | C18: =SUMIFS(AmountCASSAFORTE,Source,"ST_CASSAFORTE",CauseCode,"CC_SPESE",PaymentCode,"CASH") -> 0
B19: Attuale | C19: =SUM(C15:C18) -> 0
B21: Movimenti denaro Banca
B22: Depositi in banca effettuati durante la giornata | C22: =SUMIFS(Amount,CauseCode,"CC_DEPOSITOBANCA",PaymentCode,"CASH") -> 0
B24: Chiusura giornata
B25: Saldo Attuale in Negozio (Cassetti + Cassaforte) | C25: =SUM(C12,C19) -> 0
B26: Fondo cassaforte predefinto | C26: 0
B27: Proposta di versamento in banca | C27: =IF(C25-C26 >0, C25-C26,0) -> 0
B28: Deposito in banca effettivo | C28: 0 | F28: =IF(ABS(C27-C28) >10, "IMPOSTATO MANUALMENTE", "")
B29: Saldo Cassaforte Teorico | C29: =C25-C28 -> 0
B32: Saldo Cassaforte Rilevato + Cassetti Rilevato
B33: Residuo Sovvenzione Monete
B34: Differenza Cassaforte | C34: =IF(ISBLANK(C32), 0, C32-C29) -> 0
B35: Motivo Differenze:

Sheet Movimenti Finanziari
A1: Time | B1: Cause Name | C1: Cause Code | D1: CashRegister | E1: Payment Code | F1: Amount | G1: Source | H1: Destination | I1: AmountCASETTO | J1: AmountCASSAFORTE
I2: =(IF($G2="ST_CASSETTO", -1, 0) + IF($H2="ST_CASSETTO", 1, 0))*$F2 -> 0 | J2: =(IF($G2="ST_CASSAFORTE", -1, 0) + IF($H2="ST_CASSAFORTE", 1, 0))*$F2 -> 0
I3: =(IF(G3="ST_CASSETTO", -1, 0) + IF(H3="ST_CASSETTO", 1, 0))*F3 -> 0 | J3: =(IF($G3="ST_CASSAFORTE", -1, 0) + IF($H3="ST_CASSAFORTE", 1, 0))*$F3 -> 0
I4: =(IF(G4="ST_CASSETTO", -1, 0) + IF(H4="ST_CASSETTO", 1, 0))*F4 -> 0 | J4: =(IF($G4="ST_CASSAFORTE", -1, 0) + IF($H4="ST_CASSAFORTE", 1, 0))*$F4 -> 0
I5: =(IF(G5="ST_CASSETTO", -1, 0) + IF(H5="ST_CASSETTO", 1, 0))*F5 -> 0 | J5: =(IF($G5="ST_CASSAFORTE", -1, 0) + IF($H5="ST_CASSAFORTE", 1, 0))*$F5 -> 0
I6: =(IF(G6="ST_CASSETTO", -1, 0) + IF(H6="ST_CASSETTO", 1, 0))*F6 -> 0 | J6: =(IF($G6="ST_CASSAFORTE", -1, 0) + IF($H6="ST_CASSAFORTE", 1, 0))*$F6 -> 0
I7: =(IF(G7="ST_CASSETTO", -1, 0) + IF(H7="ST_CASSETTO", 1, 0))*F7 -> 0 | J7: =(IF($G7="ST_CASSAFORTE", -1, 0) + IF($H7="ST_CASSAFORTE", 1, 0))*$F7 -> 0
I8: =(IF(G8="ST_CASSETTO", -1, 0) + IF(H8="ST_CASSETTO", 1, 0))*F8 -> 0 | J8: =(IF($G8="ST_CASSAFORTE", -1, 0) + IF($H8="ST_CASSAFORTE", 1, 0))*$F8 -> 0
I9: =(IF(G9="ST_CASSETTO", -1, 0) + IF(H9="ST_CASSETTO", 1, 0))*F9 -> 0 | J9: =(IF($G9="ST_CASSAFORTE", -1, 0) + IF($H9="ST_CASSAFORTE", 1, 0))*$F9 -> 0
I10: =(IF(G10="ST_CASSETTO", -1, 0) + IF(H10="ST_CASSETTO", 1, 0))*F10 -> 0 | J10: =(IF($G10="ST_CASSAFORTE", -1, 0) + IF($H10="ST_CASSAFORTE", 1, 0))*$F10 -> 0
I11: =(IF(G11="ST_CASSETTO", -1, 0) + IF(H11="ST_CASSETTO", 1, 0))*F11 -> 0 | J11: =(IF($G11="ST_CASSAFORTE", -1, 0) + IF($H11="ST_CASSAFORTE", 1, 0))*$F11 -> 0
I12: =(IF(G12="ST_CASSETTO", -1, 0) + IF(H12="ST_CASSETTO", 1, 0))*F12 -> 0 | J12: =(IF($G12="ST_CASSAFORTE", -1, 0) + IF($H12="ST_CASSAFORTE", 1, 0))*$F12 -> 0
I13: =(IF(G13="ST_CASSETTO", -1, 0) + IF(H13="ST_CASSETTO", 1, 0))*F13 -> 0 | J13: =(IF($G13="ST_CASSAFORTE", -1, 0) + IF($H13="ST_CASSAFORTE", 1, 0))*$F13 -> 0
I14: =(IF(G14="ST_CASSETTO", -1, 0) + IF(H14="ST_CASSETTO", 1, 0))*F14 -> 0 | J14: =(IF($G14="ST_CASSAFORTE", -1, 0) + IF($H14="ST_CASSAFORTE", 1, 0))*$F14 -> 0
... I250: =(IF(G250="ST_CASSETTO", -1, 0) + IF(H250="ST_CASSETTO", 1, 0))*F250 -> 0 | J250: =(IF($G250="ST_CASSAFORTE", -1, 0) + IF($H250="ST_CASSAFORTE", 1, 0))*$F250 -> 0

Sheet Report Scontrini
B1: ReceiptType | C1: (Tutto)
B3: Payments | C3: Etichette di colonna
C4: (vuoto) | D4: (vuoto) Totale | E4: Totale complessivo
B5: Etichette di riga | C5: (vuoto)
B6: (vuoto)
B7: Totale complessivo

Sheet Chiusura Terminale Bancario

Sheet Chiusura Stampante Fiscale

Sheet Totali Fatture
A1: IVA | B1: Total

Sheet Chiusura di cassa per stampare
E1: Negozio: | F1: ='Chiusura di cassa'!D1 -> 0
E2: Chiusura Cassa del: | F2: ='Chiusura di cassa'!N1 -> 0
B3: ='Chiusura di cassa'!D3 -> MOVIMENTAZIONE DENARO | C3: TOTALE | E3: ='Chiusura di cassa'!G3 -> 0
B4: ='Chiusura di cassa'!D4 -> Fondo Cassa | E4: ='Chiusura di cassa'!G4 -> 0
B5: ='Chiusura di cassa'!D5 -> Versamenti contante nel cassetto | E5: ='Chiusura di cassa'!G5 -> 0
B6: ='Chiusura di cassa'!D6 -> Prelievi contante dal cassetto | E6: ='Chiusura di cassa'!G6 -> 0
B7: ='Chiusura di cassa'!D7 -> Spese Contante | E7: ='Chiusura di cassa'!G7 -> 0
B8: ='Chiusura di cassa'!D8 -> Varie Entrate | E8: ='Chiusura di cassa'!G8 -> 0
B9: ='Chiusura di cassa'!D9 -> Varie Uscite | E9: ='Chiusura di cassa'!G9 -> 0
B10: ='Chiusura di cassa'!D10 -> VENDUTO | C10: TOTALE | E10: ='Chiusura di cassa'!G10 -> 0
B11: ='Chiusura di cassa'!D11 -> 0 | C11: ='Chiusura di cassa'!I11 -> 0 | D11: ='Chiusura di cassa'!H11 -> 0 | E11: ='Chiusura di cassa'!G11 -> 0
B12: ='Chiusura di cassa'!D12 -> 0 | C12: ='Chiusura di cassa'!I12 -> 0 | D12: ='Chiusura di cassa'!H12 -> 0 | E12: ='Chiusura di cassa'!G12 -> 0
B13: ='Chiusura di cassa'!D13 -> 0 | C13: ='Chiusura di cassa'!I13 -> 0 | D13: ='Chiusura di cassa'!H13 -> 0 | E13: ='Chiusura di cassa'!G13 -> 0
B14: ='Chiusura di cassa'!D14 -> 0 | C14: ='Chiusura di cassa'!I14 -> 0 | D14: ='Chiusura di cassa'!H14 -> 0 | E14: ='Chiusura di cassa'!G14 -> 0
B15: ='Chiusura di cassa'!D15 -> 0 | C15: ='Chiusura di cassa'!I15 -> 0 | D15: ='Chiusura di cassa'!H15 -> 0 | E15: ='Chiusura di cassa'!G15 -> 0
B16: ='Chiusura di cassa'!D23 -> Caparre incamerate | E16: ='Chiusura di cassa'!G23 -> 0
B17: ='Chiusura di cassa'!D24 -> Caparre incassate | E17: ='Chiusura di cassa'!G24 -> 0
B18: ='Chiusura di cassa'!D25 -> Caparre rese | E18: ='Chiusura di cassa'!G25 -> 0
B19: ='Chiusura di cassa'!D26 -> Gift Card Vendute | E19: ='Chiusura di cassa'!G26 -> 0
B20: ='Chiusura di cassa'!D27 -> INCASSATO | C20: TOTALE | E20: ='Chiusura di cassa'!G27 -> 0 | H20: Taglio | I20: Nr | J20: Totale
B21: ='Chiusura di cassa'!D28 -> 0 | E21: ='Chiusura di cassa'!G28 -> 0 | H21: 0.01 | I21: ='Chiusura di cassa'!S6 -> 0 | J21: =H21*I21 -> 0
B22: ='Chiusura di cassa'!D29 -> ELETTRONICO | E22: ='Chiusura di cassa'!G29 -> 0 | H22: 0.02 | I22: ='Chiusura di cassa'!R6 -> 0 | J22: =H22*I22 -> 0
B23: ='Chiusura di cassa'!D30 -> 0 | E23: ='Chiusura di cassa'!G30 -> 0 | H23: 0.05 | I23: ='Chiusura di cassa'!Q6 -> 0 | J23: =H23*I23 -> 0
B24: ='Chiusura di cassa'!D31 -> 0 | E24: ='Chiusura di cassa'!G31 -> 0 | H24: 0.1 | I24: ='Chiusura di cassa'!P6 -> 0 | J24: =H24*I24 -> 0
B25: ='Chiusura di cassa'!D32 -> 0 | E25: ='Chiusura di cassa'!G32 -> 0 | H25: 0.2 | I25: ='Chiusura di cassa'!O6 -> 0 | J25: =H25*I25 -> 0
B26: ='Chiusura di cassa'!D33 -> 0 | E26: ='Chiusura di cassa'!G33 -> 0 | H26: 0.5 | I26: ='Chiusura di cassa'!N6 -> 0 | J26: =H26*I26 -> 0
B27: ='Chiusura di cassa'!D34 -> 0 | E27: ='Chiusura di cassa'!G34 -> 0 | H27: 1 | I27: ='Chiusura di cassa'!M6 -> 0 | J27: =H27*I27 -> 0
B28: ='Chiusura di cassa'!D35 -> 0 | E28: ='Chiusura di cassa'!G35 -> 0 | H28: 2 | I28: ='Chiusura di cassa'!L6 -> 0 | J28: =H28*I28 -> 0
B29: ='Chiusura di cassa'!D36 -> 0 | E29: ='Chiusura di cassa'!G36 -> 0 | H29: 5 | I29: ='Chiusura di cassa'!Q9 -> 0 | J29: =H29*I29 -> 0
B30: ='Chiusura di cassa'!D37 -> 0 | E30: ='Chiusura di cassa'!G37 -> 0 | H30: 10 | I30: ='Chiusura di cassa'!P9 -> 0 | J30: =H30*I30 -> 0
B31: ='Chiusura di cassa'!D38 -> 0 | E31: ='Chiusura di cassa'!G38 -> 0 | H31: 20 | I31: ='Chiusura di cassa'!O9 -> 0 | J31: =H31*I31 -> 0
B32: ='Chiusura di cassa'!D39 -> ARROTONDAMENTI | C32: ='Chiusura di cassa'!I39 -> 0 | D32: ='Chiusura di cassa'!H39 -> 0 | E32: ='Chiusura di cassa'!G39 -> 0 | H32: 50 | I32: ='Chiusura di cassa'!N9 -> 0 | J32: =H32*I32 -> 0
B33: ='Chiusura di cassa'!D40 -> 0 | C33: ='Chiusura di cassa'!I40 -> 0 | D33: ='Chiusura di cassa'!H40 -> 0 | E33: ='Chiusura di cassa'!G40 -> 0 | H33: 100 | I33: ='Chiusura di cassa'!M9 -> 0 | J33: =H33*I33 -> 0
B34: ='Chiusura di cassa'!D41 -> 0 | C34: ='Chiusura di cassa'!I41 -> 0 | D34: ='Chiusura di cassa'!H41 -> 0 | E34: ='Chiusura di cassa'!G41 -> 0 | H34: 200 | I34: ='Chiusura di cassa'!L9 -> 0 | J34: =H34*I34 -> 0
B35: ='Chiusura di cassa'!D43 -> Buoni Reso Emessi | E35: ='Chiusura di cassa'!G43 -> 0
B36: ='Chiusura di cassa'!D44 -> DETTAGLIO ELETTRONICO | C36: TOTALE | E36: ='Chiusura di cassa'!G44 -> 0
B37: ='Chiusura di cassa'!D45 -> 0 | E37: ='Chiusura di cassa'!G45 -> 0
B38: ='Chiusura di cassa'!D46 -> 0 | E38: ='Chiusura di cassa'!G46 -> 0 | H38: ='Chiusura di cassa'!P11 -> Nel cassetto | J38: ='Chiusura di cassa'!S11 -> 0
B39: ='Chiusura di cassa'!D47 -> 0 | E39: ='Chiusura di cassa'!G47 -> 0 | H39: ='Chiusura di cassa'!P13 -> Teorico PC | J39: ='Chiusura di cassa'!S13 -> 0
B40: ='Chiusura di cassa'!D48 -> 0 | E40: ='Chiusura di cassa'!G48 -> 0 | H40: ='Chiusura di cassa'!P15 -> Differenza | J40: ='Chiusura di cassa'!S15 -> 0
...

Sheet Scontrini
B2: Time | C2: ReceiptNumber | D2: ReceiptFiscalNumber | E2: ReceiptType | F2: Amount | G2: Code | H2: CategoryCode | I2: Name
