Workbook
Name Banconote: 'Chiusura di cassa'!$L$9:$Q$9
Name Economico: 'Chiusura di cassa'!$G$11:$G$25
Name Finanziario: 'Chiusura di cassa'!$G$26:$G$30
Name Monete: 'Chiusura di cassa'!$L$6:$S$6
Name MotivoDifferenza: 'Chiusura di cassa'!$L$19
Name Tender: 'Chiusura di cassa'!$G$27:$G$37,'Chiusura di cassa'!$G$39

Sheet Chiusura di cassa
B2: Codice | D2: Descrizione | E2: PC | F2: MF/POS | G2: Rilevato | L2: CONTEGGIO CONTANTE NEL CASSETTO
D3: MOVIMENTAZIONE DENARO | G3: =G4+G5-G6-G7+G8-G9 -> 0
A4: MM | B4: ODC | D4: Fondo Cassa | G4: =E4 -> 0
A5: MM | B5: CHIN | D5: Versamenti contante nella cassa | G5: =E5 -> 0
A6: MM | B6: CHOUT | D6: Prelievi contante dalla cassa | G6: =E6 -> 0 | L6: 0 | M6: 0 | N6: 0 | O6: 0 | P6: 0 | Q6: 0 | R6: 0 | S6: 0 | T6: =(L6*2)+(M6*1)+(N6*0.5)+O6*0.2+P6*0.1+Q6*0.05+R6*0.02+S6*0.01 -> 0
A7: MM | B7: EXP | D7: Spese Contante | G7: =E7 -> 0 | H7: TOTALE
A8: MM | B8: OTHIN | D8: Varie Entrate Contante | G8: =E8 -> 0 | H8: =G4+G5-G6-G7+G8-G9 -> 0
A9: MM | B9: OTHOUT | D9: Varie Uscite Contante | G9: =E9 -> 0 | L9: 0 | M9: 0 | N9: 0 | O9: 0 | P9: 0 | Q9: 0 | T9: =(L9*200)+(M9*100)+(N9*50)+O9*20+P9*10+Q9*5 -> 0
D10: VENDUTO | G10: =SUM(G11:G15) - SUM(G16:G20)+G23-G24+G25 -> 0 | L10: CONFRONTO FRA CONTANTE TEORICO / RILEVATO
A11: MOV | B11: VAT0 | G11: =E11 -> 0 | P11: Nel cassetto | S11: =T9+T6 -> 0
A12: MOV | B12: VAT1 | G12: =E12 -> 0
A13: MOV | B13: VAT2 | G13: =E13 -> 0 | H13: TOTALE | P13: Teorico PC | S13: =G3 + G27 -> 0
A14: MOV | B14: VAT3 | G14: =E14 -> 0 | H14: =SUM(G11:G15) - SUM(G13:G25)+#REF!-#REF!+G25 -> #REF!
A15: MOV | B15: VAT4 | G15: =E15 -> 0 | P15: Differenza | S15: =ROUND(S11-S13,2) -> 0
A16: MOV | B16: CN0 | G16: =E16 -> 0
A17: MOV | B17: CN1 | G17: =E17 -> 0 | L17: MOTIVO DIFFERENZE:
A18: MOV | B18: CN2 | G18: =E18 -> 0
A19: MOV | B19: CN3 | G19: =E19 -> 0
A20: MOV | B20: CN4 | G20: =E20 -> 0
A22: SLSFIN | B22: ADVINC | D22: Caparre incamerate | G22: =E22 -> 0
A23: SLSFIN | B23: ADVISSUE | D23: Caparre incassate | G23: =E23 -> 0 | K23: INFO
A24: SLSFIN | B24: ADVVOID | D24: Caparre rese | G24: =E24 -> 0
A25: SLSFIN | B25: GIFTISSUE | D25: Gift Card Vendute | G25: =E25 -> 0 | J25: CFMMS
D26: INCASSATO | G26: =SUM(G27:G37)-G39 -> 0 | J26: CFMMS
A27: RP | B27: CASH | D27: Vendite in contante | G27: =E27 -> 0 | J27: CFMME
D28: Elettronico | E28: =SUM(E41:E55) -> 0 | G28: =G40 -> 0 | J28: CFMME | L28: Causale | O28: Totale | Q28: Pagamento | T28: Note
A29: RP | B29: EPSTP | D29: Satispay | G29: =E29 -> 0
A30: RP | B30: BRRED | D30: Buoni di reso utilizzati | G30: =E30 -> 0
A31: RP | B31: ADV | D31: Caparre utilizzate | G31: =E31 -> 0
A32: RP | B32: BP | D32: Buoni Promozionali | G32: =E32 -> 0
A33: RP | B33: BT | D33: Bonifico | G33: =E33 -> 0
A34: RP | B34: CR | D34: Finanziamento | G34: =E34 -> 0
A35: RP | B35: GIFT | D35: Gift card | G35: =E35 -> 0
A36: RP | B36: TICKET | D36: Ticket | G36: =E36 -> 0
A37: RP | B37: Check | D37: Assegni | G37: =E37 -> 0
D38: DIFFERENZA VENDUTO / INCASSATO | G38: =ROUND(G26-G10,2) -> 0
A39: RP | B39: BRISSUE | D39: Buoni Reso Emessi | G39: =E39 -> 0
D40: DETTAGLIO ELETTRONICO | G40: =SUM(G41:G55) -> 0
A41: RP | B41: DCOFF | D41: Bancomat manuale | G41: =E41 -> 0
A42: RP | B42: CCOFF | D42: Carta di credito manuale | G42: =E42 -> 0
...

Sheet Dettaglio Scontrini
C1: Scontrino | D1: Fiscale | E1: Data e ora | F1: Tipo E/C/F | G1: Totale | H1: Contante | I1: Assegno | J1: Elettronico | K1: Buono Reso | L1: Bonifico | M1: Finanziamento | N1: Buoni Promo | O1: Gift Card | P1: Ticket | Q1: Carta di Credito Man | R1: Bancomat Man | S1: Caparra | T1: Pagapiano prima rata | U1: Pagapiano Credito | V1: Sub Tender Elettronico
G2: =SUM(G3:G2000) -> 0 | H2: =SUM(H3:H2000) -> 0 | I2: =SUM(I3:I2000) -> 0 | J2: =SUM(J3:J2000) -> 0 | K2: =SUM(K3:K2000) -> 0 | L2: =SUM(L3:L2000) -> 0 | M2: =SUM(M3:M2000) -> 0 | N2: =SUM(N3:N2000) -> 0 | ... U2: =SUM(U3:U2000) -> 0

Sheet Lettura POS

Sheet Lettura Stampante

Sheet Totali Fatture
A1: IVA | B1: Total

Sheet Stampa
F1: Negozio: | G1: ='Chiusura di cassa'!D1 -> 0
F2: Chiusura Cassa del: | G2: ='Chiusura di cassa'!N1 -> 0
B3: ='Chiusura di cassa'!D3 -> MOVIMENTAZIONE DENARO | E3: TOTALE | F3: ='Chiusura di cassa'!G3 -> 0
B4: ='Chiusura di cassa'!D4 -> Fondo Cassa | F4: ='Chiusura di cassa'!G4 -> 0
B5: ='Chiusura di cassa'!D5 -> Versamenti contante nella cassa | F5: ='Chiusura di cassa'!G5 -> 0
B6: ='Chiusura di cassa'!D6 -> Prelievi contante dalla cassa | F6: ='Chiusura di cassa'!G6 -> 0
B7: ='Chiusura di cassa'!D7 -> Spese Contante | F7: ='Chiusura di cassa'!G7 -> 0
B8: ='Chiusura di cassa'!D8 -> Varie Entrate Contante | F8: ='Chiusura di cassa'!G8 -> 0
B9: ='Chiusura di cassa'!D9 -> Varie Uscite Contante | F9: ='Chiusura di cassa'!G9 -> 0
B10: DETTAGLIO MOVIMENTAZIONE DENARO
A11: . | B11: ='Chiusura di cassa'!L35 -> 0 | F11: ='Chiusura di cassa'!O35 -> 0 | G11: ='Chiusura di cassa'!Q35 -> 0 | H11: ='Chiusura di cassa'!T35 -> 0
A12: . | B12: ='Chiusura di cassa'!L36 -> 0 | F12: ='Chiusura di cassa'!O36 -> 0 | G12: ='Chiusura di cassa'!Q36 -> 0 | H12: ='Chiusura di cassa'!T36 -> 0
A13: . | B13: ='Chiusura di cassa'!L37 -> 0 | F13: ='Chiusura di cassa'!O37 -> 0 | G13: ='Chiusura di cassa'!Q37 -> 0 | H13: ='Chiusura di cassa'!T37 -> 0
A14: . | B14: ='Chiusura di cassa'!L38 -> 0 | F14: ='Chiusura di cassa'!O38 -> 0 | G14: ='Chiusura di cassa'!Q38 -> 0 | H14: ='Chiusura di cassa'!T38 -> 0
A15: . | B15: ='Chiusura di cassa'!L39 -> 0 | F15: ='Chiusura di cassa'!O39 -> 0 | G15: ='Chiusura di cassa'!Q39 -> 0 | H15: ='Chiusura di cassa'!T39 -> 0
A16: . | B16: ='Chiusura di cassa'!L40 -> 0 | F16: ='Chiusura di cassa'!O40 -> 0 | G16: ='Chiusura di cassa'!Q40 -> 0 | H16: ='Chiusura di cassa'!T40 -> 0
A17: . | B17: ='Chiusura di cassa'!L41 -> 0 | F17: ='Chiusura di cassa'!O41 -> 0 | G17: ='Chiusura di cassa'!Q41 -> 0 | H17: ='Chiusura di cassa'!T41 -> 0
A18: . | B18: ='Chiusura di cassa'!L42 -> 0 | F18: ='Chiusura di cassa'!O42 -> 0 | G18: ='Chiusura di cassa'!Q42 -> 0 | H18: ='Chiusura di cassa'!T42 -> 0
B19: ='Chiusura di cassa'!D10 -> VENDUTO | E19: TOTALE | F19: ='Chiusura di cassa'!G10 -> 0
B20: IVA | C20: Base IVA | D20: IVA | F20: Importo
B21: ='Chiusura di cassa'!D11 -> 0 | C21: ='Chiusura di cassa'!AO11 -> 0 | D21: ='Chiusura di cassa'!AP11 -> 0 | F21: ='Chiusura di cassa'!G11 -> 0
B22: ='Chiusura di cassa'!D12 -> 0 | C22: ='Chiusura di cassa'!AO12 -> 0 | D22: ='Chiusura di cassa'!AP12 -> 0 | F22: ='Chiusura di cassa'!G12 -> 0
B23: ='Chiusura di cassa'!D13 -> 0 | C23: ='Chiusura di cassa'!AO13 -> 0 | D23: ='Chiusura di cassa'!AP13 -> 0 | F23: ='Chiusura di cassa'!G13 -> 0
B24: ='Chiusura di cassa'!D14 -> 0 | C24: ='Chiusura di cassa'!AO14 -> 0 | D24: ='Chiusura di cassa'!AP14 -> 0 | F24: ='Chiusura di cassa'!G14 -> 0
B25: ='Chiusura di cassa'!D15 -> 0 | C25: ='Chiusura di cassa'!AO15 -> 0 | D25: ='Chiusura di cassa'!AP15 -> 0 | F25: ='Chiusura di cassa'!G15 -> 0
B26: ='Chiusura di cassa'!D16 -> 0 | C26: ='Chiusura di cassa'!AO16 -> 0 | D26: ='Chiusura di cassa'!AP16 -> 0 | F26: ='Chiusura di cassa'!G16 -> 0
B27: ='Chiusura di cassa'!D17 -> 0 | C27: ='Chiusura di cassa'!AO17 -> 0 | D27: ='Chiusura di cassa'!AP17 -> 0 | F27: ='Chiusura di cassa'!G17 -> 0
B28: ='Chiusura di cassa'!D18 -> 0 | C28: ='Chiusura di cassa'!AO18 -> 0 | D28: ='Chiusura di cassa'!AP18 -> 0 | F28: ='Chiusura di cassa'!G18 -> 0
B29: ='Chiusura di cassa'!D19 -> 0 | C29: ='Chiusura di cassa'!AO19 -> 0 | D29: ='Chiusura di cassa'!AP19 -> 0 | F29: ='Chiusura di cassa'!G19 -> 0
B30: ='Chiusura di cassa'!D20 -> 0 | C30: ='Chiusura di cassa'!AO20 -> 0 | D30: ='Chiusura di cassa'!AP20 -> 0 | F30: ='Chiusura di cassa'!G20 -> 0
B31: ='Chiusura di cassa'!D22 -> Caparre incamerate | F31: ='Chiusura di cassa'!G22 -> 0
B32: ='Chiusura di cassa'!D23 -> Caparre incassate | F32: ='Chiusura di cassa'!G23 -> 0
B33: ='Chiusura di cassa'!D24 -> Caparre rese | F33: ='Chiusura di cassa'!G24 -> 0
B34: ='Chiusura di cassa'!D25 -> Gift Card Vendute | F34: ='Chiusura di cassa'!G25 -> 0
B35: ='Chiusura di cassa'!D26 -> INCASSATO | E35: TOTALE | F35: ='Chiusura di cassa'!G26 -> 0 | I35: Taglio | J35: Nr | K35: Totale
B36: ='Chiusura di cassa'!D27 -> Vendite in contante | F36: ='Chiusura di cassa'!G27 -> 0 | I36: 0.01 | J36: ='Chiusura di cassa'!S6 -> 0 | K36: =I36*J36 -> 0
B37: ='Chiusura di cassa'!D28 -> Elettronico | F37: ='Chiusura di cassa'!G28 -> 0 | I37: 0.02 | J37: ='Chiusura di cassa'!R6 -> 0 | K37: =I37*J37 -> 0
B38: ='Chiusura di cassa'!D30 -> Buoni di reso utilizzati | F38: ='Chiusura di cassa'!G30 -> 0 | I38: 0.05 | J38: ='Chiusura di cassa'!Q6 -> 0 | K38: =I38*J38 -> 0
B39: ='Chiusura di cassa'!D31 -> Caparre utilizzate | F39: ='Chiusura di cassa'!G31 -> 0 | I39: 0.1 | J39: ='Chiusura di cassa'!P6 -> 0 | K39: =I39*J39 -> 0
B40: ='Chiusura di cassa'!D32 -> Buoni Promozionali | F40: ='Chiusura di cassa'!G32 -> 0 | I40: 0.2 | J40: ='Chiusura di cassa'!O6 -> 0 | K40: =I40*J40 -> 0
...
