Workbook
Name Banconote: 'Inchidere de Casa'!$L$9:$Q$9
Name Economico: 'Inchidere de Casa'!$G$11:$G$16
Name Finanziario: 'Inchidere de Casa'!$G$17:$G$20
Name Monete: 'Inchidere de Casa'!$L$6:$S$6
Name MotivoDifferenza: 'Inchidere de Casa'!$L$19
Name Tender: 'Inchidere de Casa'!$G$18:$G$26,'Inchidere de Casa'!$G$28

Sheet Inchidere de Casa
B2: Codice | D2: Descriere | E2: PC | F2: CM/ POS | G2: Total | L2: NUMERAR EXISTENT ÎN CASĂ
D3: MIȘCĂRI DE BANI | G3: =G4+G5-G6-G7+G8-G9 -> 0
A4: MM | B4: ODC | D4: Fond de Casa | G4: =E4 -> 0
A5: MM | B5: CHIN | D5: Depuneri Numerar | G5: =E5 -> 0
A6: MM | B6: CHOUT | D6: Retrageri Numerar | G6: =E6 -> 0 | L6: 0 | M6: 0 | N6: 0 | O6: 0 | T6: =(L6*0.01)+(M6*0.05)+(N6*0.1)+O6*0.5 -> 0
A7: MM | B7: EXP | D7: Cheltuieli Numerar | G7: =E7 -> 0 | H7: TOTALE
A8: MM | B8: OTHIN | D8: Diverse Intrari Numerar | G8: =E8 -> 0 | H8: =G4+G5-G6-G7+G8-G9 -> 0
A9: MM | B9: OTHOUT | D9: Diverse Ieșiri Numerar | G9: =E9 -> 0 | L9: 0 | M9: 0 | N9: 0 | O9: 0 | P9: 0 | Q9: 0 | R9: 0 | T9: =(L9*1)+(M9*5)+(N9*10)+O9*50+P9*100+Q9*200+R9*500 -> 0
D10: VÂNZĂRI | G10: =SUM(G11:G12) - SUM(G13:G14)+G16 -> 0 | L10: CONTROL CASA DE BANI / COMPUTER
A11: MOV | B11: VAT1 | G11: =E11 -> 0 | P11: Casa de Bani | S11: =T9+T6 -> 0
A12: MOV | B12: VAT4 | G12: =E12 -> 0
A13: MOV | B13: CN1 | G13: =E13 -> 0 | H13: TOTALE | P13: Computer | S13: =G3 + G18 -> 0
A14: MOV | B14: CN4 | G14: =E14 -> 0 | H14: =SUM(G11:G15) - SUM(G13:G16)+#REF!-#REF!+G16 -> #REF!
P15: Diferența | S15: =ROUND(S11-S13,2) -> 0
A16: SLSFIN | B16: GIFTISSUE | D16: Gift Card-uri Vandute | G16: =E16 -> 0
D17: ÎNCASĂRI | G17: =SUM(G18:G26)-G28 -> 0 | L17: MOTIVUL DIFERENȚEI
A18: RP | B18: CASH | D18: Vânzări Numerar | G18: =E18 -> 0
D19: Electronice | E19: =SUM(E30:E39) -> 0 | G19: =E19 -> 0
A20: RP | B20: BRRED | D20: Bonuri de Retur Utilizate | G20: =E20 -> 0
A21: RP | B21: BP | D21: Bonuri Promoționale | G21: =E21 -> 0
A22: RP | B22: BT | D22: Transfer Bancar | G22: =E22 -> 0
A23: RP | B23: CR | D23: Credit | G23: =E23 -> 0
A24: RP | B24: GIFT | D24: Gift Card | G24: =E24 -> 0
A25: RP | B25: TICKET | D25: Bon Valoric | G25: =E25 -> 0
A26: RP | B26: Check | D26: Cec | G26: =E26 -> 0
D27: DIFERENȚE VÂNZARE / ÎNCASARE | G27: =ROUND(G17-G10,2) -> 0 | H27: TOTALE | L27: Causale | O27: Totale | Q27: Pagamento | T27: Note
A28: RP | B28: BRISSUE | D28: Bonuri de Retur Emise | G28: =E28 -> 0
D29: DETALIU PLATA ELECTRONICA | G29: =SUM(G30:G39) -> 0
A30: RP | B30: CCOFF | D30: Cartea de credit manual | G30: =E30 -> 0
A31: RP | B31: DCOFF | D31: Bancomat manual | G31: =E31 -> 0
A32: RP | B32: DC1 | D32: BANCOMAT | G32: =E32 -> 0
A33: RP | B33: CC01 | D33: VISA | G33: =E33 -> 0
A34: RP | B34: CC02 | D34: MASTERCARD | G34: =E34 -> 0
A35: RP | B35: CC03 | D35: MAESTRO | G35: =E35 -> 0
A36: RP | B36: CC05 | D36: ALTELE | G36: =E36 -> 0

Sheet Detaliu Bon Fiscal
A1: Store Code | B1: Cassa | C1: Bon Fiscal | D1: Data si Ora | E1: Tipo E/C/F | F1: Total | G1: Numerar | H1: Cec | I1: Electronic | J1: Bon Retur | K1: Transfer Bancar | L1: Credit | M1: Bonuri Promotionale | N1: Gift Card | O1: Bon Valoric | P1: Carte de Credit Manual | Q1: Bancomat Manual | R1: Avans | S1: Sub Tender Elettronico
F2: =SUM(F3:F2000) -> 0 | G2: =SUM(G3:G2000) -> 0 | H2: =SUM(H3:H2000) -> 0 | I2: =SUM(I3:I2000) -> 0 | J2: =SUM(J3:J2000) -> 0 | K2: =SUM(K3:K2000) -> 0 | L2: =SUM(L3:L2000) -> 0 | M2: =SUM(M3:M2000) -> 0 | ... R2: =SUM(R3:R2000) -> 0

Sheet Inchidere Terminal Bancar

Sheet Inchidere Casa de Marcat

Sheet Sheet1

Sheet Total Facturi
A1: TVA | B1: Total

Sheet Inchidere de tiparit
D1: Negozio: | E1: ='Inchidere de Casa'!D1 -> 0
D2: Chiusura Cassa del: | E2: ='Inchidere de Casa'!N1 -> 0
B3: ='Inchidere de Casa'!D3 -> MIȘCĂRI DE BANI | C3: TOTALE | D3: ='Inchidere de Casa'!G3 -> 0
B4: ='Inchidere de Casa'!D4 -> Fond de Casa | D4: ='Inchidere de Casa'!G4 -> 0
B5: ='Inchidere de Casa'!D5 -> Depuneri Numerar | D5: ='Inchidere de Casa'!G5 -> 0
B6: ='Inchidere de Casa'!D6 -> Retrageri Numerar | D6: ='Inchidere de Casa'!G6 -> 0
B7: ='Inchidere de Casa'!D7 -> Cheltuieli Numerar | D7: ='Inchidere de Casa'!G7 -> 0
B8: ='Inchidere de Casa'!D8 -> Diverse Intrari Numerar | D8: ='Inchidere de Casa'!G8 -> 0
B9: ='Inchidere de Casa'!D9 -> Diverse Ieșiri Numerar | D9: ='Inchidere de Casa'!G9 -> 0
A11: . | E11: ='Inchidere de Casa'!Q34 -> 0 | F11: ='Inchidere de Casa'!T34 -> 0
A12: . | E12: ='Inchidere de Casa'!Q35 -> 0 | F12: ='Inchidere de Casa'!T35 -> 0
A13: . | E13: ='Inchidere de Casa'!Q36 -> 0 | F13: ='Inchidere de Casa'!T36 -> 0
A14: . | E14: ='Inchidere de Casa'!Q37 -> 0 | F14: ='Inchidere de Casa'!T37 -> 0
A15: . | E15: ='Inchidere de Casa'!Q38 -> 0 | F15: ='Inchidere de Casa'!T38 -> 0
A16: . | E16: ='Inchidere de Casa'!Q39 -> 0 | F16: ='Inchidere de Casa'!T39 -> 0
A17: . | E17: ='Inchidere de Casa'!Q40 -> 0 | F17: ='Inchidere de Casa'!T40 -> 0
A18: . | E18: ='Inchidere de Casa'!Q41 -> 0 | F18: ='Inchidere de Casa'!T41 -> 0
B19: ='Inchidere de Casa'!D10 -> VÂNZĂRI | C19: TOTALE | D19: ='Inchidere de Casa'!G10 -> 0
B20: ='Inchidere de Casa'!D12 -> 0 | D20: ='Inchidere de Casa'!G12 -> 0
B21: ='Inchidere de Casa'!D13 -> 0 | D21: ='Inchidere de Casa'!G13 -> 0
B22: ='Inchidere de Casa'!D14 -> 0 | D22: ='Inchidere de Casa'!G14 -> 0
B23: ='Inchidere de Casa'!D15 -> 0 | D23: ='Inchidere de Casa'!G15 -> 0
B24: ='Inchidere de Casa'!D22 -> Transfer Bancar | D24: ='Inchidere de Casa'!G22 -> 0
B25: ='Inchidere de Casa'!D23 -> Credit | D25: ='Inchidere de Casa'!G23 -> 0
B26: ='Inchidere de Casa'!D24 -> Gift Card | D26: ='Inchidere de Casa'!G24 -> 0
B27: ='Inchidere de Casa'!D25 -> Bon Valoric | D27: ='Inchidere de Casa'!G25 -> 0
B28: ='Inchidere de Casa'!D26 -> Cec | C28: TOTALE | D28: ='Inchidere de Casa'!G26 -> 0 | G28: Taglio | H28: Nr | I28: Totale
B29: ='Inchidere de Casa'!D27 -> DIFERENȚE VÂNZARE / ÎNCASARE | D29: ='Inchidere de Casa'!G27 -> 0 | G29: 0.01 | H29: ='Inchidere de Casa'!S6 -> 0 | I29: =G29*H29 -> 0
B30: ='Inchidere de Casa'!D28 -> Bonuri de Retur Emise | D30: ='Inchidere de Casa'!G28 -> 0 | G30: 0.02 | H30: ='Inchidere de Casa'!R6 -> 0 | I30: =G30*H30 -> 0
B31: ='Inchidere de Casa'!D29 -> DETALIU PLATA ELECTRONICA | D31: ='Inchidere de Casa'!G29 -> 0 | G31: 0.05 | H31: ='Inchidere de Casa'!Q6 -> 0 | I31: =G31*H31 -> 0
B32: ='Inchidere de Casa'!D30 -> Cartea de credit manual | D32: ='Inchidere de Casa'!G30 -> 0 | G32: 0.1 | H32: ='Inchidere de Casa'!P6 -> 0 | I32: =G32*H32 -> 0
B33: ='Inchidere de Casa'!D31 -> Bancomat manual | D33: ='Inchidere de Casa'!G31 -> 0 | G33: 0.2 | H33: ='Inchidere de Casa'!O6 -> 0 | I33: =G33*H33 -> 0
B34: ='Inchidere de Casa'!D32 -> BANCOMAT | D34: ='Inchidere de Casa'!G32 -> 0 | G34: 0.5 | H34: ='Inchidere de Casa'!N6 -> 0 | I34: =G34*H34 -> 0
B35: ='Inchidere de Casa'!D33 -> VISA | D35: ='Inchidere de Casa'!G33 -> 0 | G35: 1 | H35: ='Inchidere de Casa'!M6 -> 0 | I35: =G35*H35 -> 0
B36: ='Inchidere de Casa'!D34 -> MASTERCARD | D36: ='Inchidere de Casa'!G34 -> 0 | G36: 2 | H36: ='Inchidere de Casa'!L6 -> 0 | I36: =G36*H36 -> 0
B37: ='Inchidere de Casa'!D35 -> MAESTRO | D37: ='Inchidere de Casa'!G35 -> 0 | G37: 5 | H37: ='Inchidere de Casa'!Q9 -> 0 | I37: =G37*H37 -> 0
B38: ='Inchidere de Casa'!D36 -> ALTELE | D38: ='Inchidere de Casa'!G36 -> 0 | G38: 10 | H38: ='Inchidere de Casa'!P9 -> 0 | I38: =G38*H38 -> 0
G39: 20 | H39: ='Inchidere de Casa'!O9 -> 0 | I39: =G39*H39 -> 0
G40: 50 | H40: ='Inchidere de Casa'!N9 -> 0 | I40: =G40*H40 -> 0
G41: 100 | H41: ='Inchidere de Casa'!M9 -> 0 | I41: =G41*H41 -> 0
...

Sheet Registru de casa
A1: INTANGOO S.R.L. -MAGAZIN SHOPPING CITY str.LUCIAN BLAGA, NR.1, ET. P, AP. 21C, TIMISOARA, PL Shopping City Timisoara
E2: Data | G2: Contul casa
C3: REGISTRU DE CASA | E3: Ziua / Luna / Anul
E4: ='Inchidere de Casa'!F1 -> 0
A5: (UNITATEA)
A6: Nr. Crt. | B6: Nr. act casa | C6: Explicatii | D6: Incasari | E6: Plati | F6: Simbol cont corespondent
A7: Report/Sold ziua precedenta | C7: ='Inchidere de Casa'!S13 -> 0
B9: ='Inchidere de Casa'!L28 -> 0 | C9: ='Inchidere de Casa'!T28 -> 0 | D9: =IF(SEARCH("VERSAMENTO",B9),'Inchidere de Casa'!O28,0) -> #VALUE! | E9: =IF(SEARCH("PRELIEVO",B9),'Inchidere de Casa'!O28,0) -> #VALUE!
B10: ='Inchidere de Casa'!L29 -> 0 | C10: ='Inchidere de Casa'!T29 -> 0 | D10: =IF(SEARCH("VERSAMENTO",B10),'Inchidere de Casa'!O29,0) -> #VALUE! | E10: =IF(SEARCH("PRELIEVO",B10),'Inchidere de Casa'!O29,0) -> #VALUE!
B11: ='Inchidere de Casa'!L30 -> 0 | C11: ='Inchidere de Casa'!T30 -> 0 | D11: =IF(SEARCH("VERSAMENTO",B11),'Inchidere de Casa'!O30,0) -> #VALUE! | E11: =IF(SEARCH("PRELIEVO",B11),'Inchidere de Casa'!O30,0) -> #VALUE!
B12: ='Inchidere de Casa'!L31 -> 0 | C12: ='Inchidere de Casa'!T31 -> 0 | D12: =IF(SEARCH("VERSAMENTO",B12),'Inchidere de Casa'!O31,0) -> #VALUE! | E12: =IF(SEARCH("PRELIEVO",B12),'Inchidere de Casa'!O31,0) -> #VALUE!
B13: ='Inchidere de Casa'!L32 -> 0 | C13: ='Inchidere de Casa'!T32 -> 0 | D13: =IF(SEARCH("VERSAMENTO",B13),'Inchidere de Casa'!O32,0) -> #VALUE! | E13: =IF(SEARCH("PRELIEVO",B13),'Inchidere de Casa'!O32,0) -> #VALUE!
B14: ='Inchidere de Casa'!L33 -> 0 | C14: ='Inchidere de Casa'!T33 -> 0 | D14: =IF(SEARCH("VERSAMENTO",B14),'Inchidere de Casa'!O33,0) -> #VALUE! | E14: =IF(SEARCH("PRELIEVO",B14),'Inchidere de Casa'!O33,0) -> #VALUE!
D15: =IF(SEARCH("VERSAMENTO",B15),'Inchidere de Casa'!O34,0) -> #VALUE! | E15: =IF(SEARCH("PRELIEVO",B15),'Inchidere de Casa'!O34,0) -> #VALUE!
D16: =IF(SEARCH("VERSAMENTO",B16),'Inchidere de Casa'!O35,0) -> #VALUE! | E16: =IF(SEARCH("PRELIEVO",B16),'Inchidere de Casa'!O35,0) -> #VALUE!
D17: =IF(SEARCH("VERSAMENTO",B17),'Inchidere de Casa'!O36,0) -> #VALUE! | E17: =IF(SEARCH("PRELIEVO",B17),'Inchidere de Casa'!O36,0) -> #VALUE!
